BEGIN:VCALENDAR
VERSION:2.0
PRODID:-//eventon.com NONSGML v1.0//EN
CALSCALE:GREGORIAN
METHOD:PUBLISH
BEGIN:VEVENT
UID:69eb47b329d9d
DTSTAMP:20260424T103635Z
DTSTART:20260424T190000Z
DTEND:20260425T020000Z
LOCATION:Saasfee*box | FRANKFURT
SUMMARY:Zuflucht Fundraiser // Camy Huot
DESCRIPTION:Camy Huot\,  Andreas Aprill (live)\,  Cosima\,  Schadenheimer\
 nhttps://www.theclubmap.com/events/zuflucht-fundraiser-camy-huot/
URL:https://www.theclubmap.com/events/zuflucht-fundraiser-camy-huot/
END:VEVENT
END:VCALENDAR