BEGIN:VCALENDAR
VERSION:2.0
PRODID:-//eventon.com NONSGML v1.0//EN
CALSCALE:GREGORIAN
METHOD:PUBLISH
BEGIN:VEVENT
UID:69eb47b30b599
DTSTAMP:20260424T103635Z
DTSTART:20260424T215900Z
DTEND:20260425T040000Z
LOCATION:Silbergold | FRANKFURT
SUMMARY:Groovemasters
DESCRIPTION:MAGDALENA MAY  Luisio Fachmann\nhttps://www.theclubmap.com/eve
 nts/groovemasters-2/
URL:https://www.theclubmap.com/events/groovemasters-2/
END:VEVENT
END:VCALENDAR