BEGIN:VCALENDAR
VERSION:2.0
PRODID:-//eventon.com NONSGML v1.0//EN
CALSCALE:GREGORIAN
METHOD:PUBLISH
BEGIN:VEVENT
UID:69eb47dd5209f
DTSTAMP:20260424T103717Z
DTSTART:20260424T200000Z
DTEND:20260425T010000Z
LOCATION:Zoulou BAR | FRANKFURT
SUMMARY:Homeboys Takeover
DESCRIPTION:BADDIE B LIDU FLOCKA LO HOMEBOYS\nhttps://www.theclubmap.com/ev
 ents/homeboys-takeover/
URL:https://www.theclubmap.com/events/homeboys-takeover/
END:VEVENT
END:VCALENDAR