BEGIN:VCALENDAR
VERSION:2.0
PRODID:-//eventon.com NONSGML v1.0//EN
CALSCALE:GREGORIAN
METHOD:PUBLISH
BEGIN:VEVENT
UID:69eb4aa3b1e11
DTSTAMP:20260424T104907Z
DTSTART:20260425T210000Z
DTEND:20260426T030000Z
LOCATION:Elfer | FRANKFURT
SUMMARY:PLUR
DESCRIPTION:DJulyy HATHESYS LUSZE  Marius Sommerfeld\nhttps://www.theclubm
 ap.com/events/plur/
URL:https://www.theclubmap.com/events/plur/
END:VEVENT
END:VCALENDAR