BEGIN:VCALENDAR
VERSION:2.0
PRODID:-//eventon.com NONSGML v1.0//EN
CALSCALE:GREGORIAN
METHOD:PUBLISH
BEGIN:VEVENT
UID:69eb4a5986238
DTSTAMP:20260424T104753Z
DTSTART:20260425T120000Z
DTEND:20260425T200000Z
LOCATION:Sparta Schwimmclub | FRANKFURT
SUMMARY:OURS Open Air- Season Pre-Opening
DESCRIPTION:Maceo Plex | Radio Slave | Alinka | Stereofuse &#038; Spin\n
 https://www.theclubmap.com/events/ours-open-air-season-pre-opening/
URL:https://www.theclubmap.com/events/ours-open-air-season-pre-opening/
END:VEVENT
END:VCALENDAR