BEGIN:VCALENDAR
VERSION:2.0
PRODID:-//eventon.com NONSGML v1.0//EN
CALSCALE:GREGORIAN
METHOD:PUBLISH
BEGIN:VEVENT
UID:69eb488ad4e60
DTSTAMP:20260424T104010Z
DTSTART:20260425T210000Z
DTEND:20260426T030000Z
LOCATION:Ponyhof | FRANKFURT
SUMMARY:DnBaddies – Drum & Bass Rave
DESCRIPTION:Enaly  Lora (1)  Ainex Bun.ni\nhttps://www.theclubmap.com/eve
 nts/dnbaddies-drum-bass-rave/
URL:https://www.theclubmap.com/events/dnbaddies-drum-bass-rave/
END:VEVENT
END:VCALENDAR