BEGIN:VCALENDAR
VERSION:2.0
PRODID:-//eventon.com NONSGML v1.0//EN
CALSCALE:GREGORIAN
METHOD:PUBLISH
BEGIN:VEVENT
UID:69eb484bc79b6
DTSTAMP:20260424T103907Z
DTSTART:20260425T193000Z
DTEND:20260426T070000Z
LOCATION:Tokonoma e.V.
SUMMARY:4 YEARS Club Bizarre
DESCRIPTION:ISAbella  Peachlyfe  Doppelgang  ZSZS  Ido Toledano cmjk Ph
 illip Kluge Mark Hartmann Francesco Framor\nhttps://www.theclubmap.com/even
 ts/4-years-club-bizarre/
URL:https://www.theclubmap.com/events/4-years-club-bizarre/
END:VEVENT
END:VCALENDAR