BEGIN:VCALENDAR
VERSION:2.0
PRODID:-//eventon.com NONSGML v1.0//EN
CALSCALE:GREGORIAN
METHOD:PUBLISH
BEGIN:VEVENT
UID:69eb46e83fc25
DTSTAMP:20260424T103312Z
DTSTART:20260425T215900Z
DTEND:20260426T040000Z
LOCATION:Silbergold | FRANKFURT
SUMMARY:Fill Your Head
DESCRIPTION:Chris Wood  Boutiq.808  Chris Beulich  AKR\nhttps://www.thec
 lubmap.com/events/fill-your-head-2/
URL:https://www.theclubmap.com/events/fill-your-head-2/
END:VEVENT
END:VCALENDAR