BEGIN:VCALENDAR
VERSION:2.0
PRODID:-//eventon.com NONSGML v1.0//EN
CALSCALE:GREGORIAN
METHOD:PUBLISH
BEGIN:VEVENT
UID:69eb48111446c
DTSTAMP:20260424T103809Z
DTSTART:20260425T200000Z
DTEND:20260426T030000Z
LOCATION:Pracht | FRANKFURT
SUMMARY:PrachtNACHT with Juliet Sikora\,  Nici Naiya & Marcél Roemer
DESCRIPTION:Juliet Sikora  Nici Naiya  Marcél Roemer\nhttps://www.theclu
 bmap.com/events/prachtnacht-with-juliet-sikora-nici-naiya-marcel-roemer/
URL:https://www.theclubmap.com/events/prachtnacht-with-juliet-sikora-nici-naiya-marcel-roemer/
END:VEVENT
END:VCALENDAR