BEGIN:VCALENDAR
VERSION:2.0
PRODID:-//eventon.com NONSGML v1.0//EN
CALSCALE:GREGORIAN
METHOD:PUBLISH
BEGIN:VEVENT
UID:69ea6d9babcf2
DTSTAMP:20260423T190603Z
DTSTART:20260425T160000Z
DTEND:20260426T010000Z
LOCATION:CLUB PAULA | DRESDEN
SUMMARY:HINTERHOF OPENAIR
DESCRIPTION:MOONBOOTICA (KOWE SIX DJ- Set) MAJI &#038; MOTO EVA HEYDN SCALA
 \nhttps://www.theclubmap.com/events/hinterhof-openair/
URL:https://www.theclubmap.com/events/hinterhof-openair/
END:VEVENT
END:VCALENDAR