BEGIN:VCALENDAR
VERSION:2.0
PRODID:-//eventon.com NONSGML v1.0//EN
CALSCALE:GREGORIAN
METHOD:PUBLISH
BEGIN:VEVENT
UID:69ea6cf3d6e49
DTSTAMP:20260423T190315Z
DTSTART:20260426T130000Z
DTEND:20260426T200000Z
LOCATION:objekt klein a | DRESDEN
SUMMARY:RE 50: säXXtasy ✕ OHRbit
DESCRIPTION:Sarah b2b ehrenanton kaotisch b2b f.feuerstein illousion b2b ge
 _heym majo\nhttps://www.theclubmap.com/events/re-50-saexxtasy-%e2%9c%95-ohr
 bit/
URL:https://www.theclubmap.com/events/re-50-saexxtasy-%e2%9c%95-ohrbit/
END:VEVENT
END:VCALENDAR