BEGIN:VCALENDAR
VERSION:2.0
PRODID:-//eventon.com NONSGML v1.0//EN
CALSCALE:GREGORIAN
METHOD:PUBLISH
BEGIN:VEVENT
UID:69ea71af4f805
DTSTAMP:20260423T192327Z
DTSTART:20260524
DTEND:20260525
LOCATION:Club Puschkin | DRESDEN
SUMMARY:Ich & Du Open Air 2026
DESCRIPTION:♫♫♫ ICH &#038; DU Open Air 2026 ♫♫♫ Pfingstsonntag 
 24.05.2026 &lt;&gt; A-Z Open Air Orbit: ► Anna Reusch ► Dj Hell ► Fil
 osofi b2b Souphlé ► Frida Darko ► Ju von Dölzschen -live- ► Kalipo 
 ► Kink -live- Space Shuttle Maschinen-Modul Aftershow-Party präs. RAVE O
 N ACID ► Dark Lizz ►[..]\nhttps://www.theclubmap.com/events/ich-du-open
 -air-2026/
URL:https://www.theclubmap.com/events/ich-du-open-air-2026/
END:VEVENT
END:VCALENDAR