BEGIN:VCALENDAR
VERSION:2.0
PRODID:-//eventon.com NONSGML v1.0//EN
CALSCALE:GREGORIAN
METHOD:PUBLISH
BEGIN:VEVENT
UID:69ec2651286ba
DTSTAMP:20260425T022625Z
DTSTART:20260516T200000Z
DTEND:20260516T110000Z
LOCATION:GrooveStation | DRESDEN
SUMMARY:the 80s TOTAL
DESCRIPTION:Gold! Always believe in your soul. Bob und Dave aus dem glam va
 lley bringen euch die glänzenden Hits aus der goldenen Ära. Sounds like: 
 Depeche Mode\,  Eurythmics\,  Madonna\,  The Cure\,  Mysterious Art\,  Alph
 aville\,  Flirts\,  Cyndi Lauper\,  Bonnie Tyler\,  Visage\,  Blondie\,  Ta
 lk Talk\,  A-HA\,  Soft Cell\,  Queen\,  Prince\,  Grandmaster Flash\,  Lim
 e\, [..]\nhttps://www.theclubmap.com/events/the-80s-total-2/
URL:https://www.theclubmap.com/events/the-80s-total-2/
END:VEVENT
END:VCALENDAR